BEGIN:VCALENDAR
PRODID:-//IONAS//RIS//DE
VERSION:2.0
CALSCALE:GREGORIAN
BEGIN:VEVENT
DTSTAMP:20260421T010808Z
DTSTART:20250909T150000
DTEND:20250909T160500
SUMMARY:Ausschuss für Finanzen\, Wirtschaft\, Tourismus\, Mobilität und B
 auen (29. Sitzung)
LOCATION:Kreishaus in Korbach\, Sitzungssaal I (1. OG)\, Südring 2\, 3449
 7 Korbach
DESCRIPTION:Tagesordnungspunkte\nI. öffentliche Sitzung\n1. Kreiskrankenh
 aus Frankenberg gGmbH\;\nRangrücktritt und Verlängerung einer gewährten 
 Liquiditätshilfe\n2. Vorstellung Klima- und Energiebericht\n3. Einführun
 g eines kreisweiten Wettbewerbs zur Senkung des Energieverbrauchs in Sch
 ulen des Kreises\nAntrag der Fraktion BÜNDNIS 90/DIE GRÜNEN\n4. Konzeptv
 orschlag zur weiteren Bewirtschaftung der Projektstellen der Kreisverwal
 tung\n5. 8. Änderung der Satzung des Landkreises Waldeck-Frankenberg übe
 r die Erhebung von Gebühren für Amtshandlungen im Zusammenhang mit der G
 ewinnung von Frischfleisch (Frischfleisch-Kostensatzung) vom 15.12.2014 
 (s. Anlagen)\n6. Kreisstraße 19\, Abstufung der Kreisstraße in der Ortsl
 age Waldeck-Selbach zur Stadtstraße und Ablösung\n7. Ankauf des Grundstü
 cks in der Gemarkung Bad Wildungen\, Flur 20\, Flurstück 83 zur Errichtu
 ng eines Neubaus für die Mathias-Bauer-Schule\n8. Bericht über den Haush
 altsvollzug für das II. Quartal 2025 auf der Grundlage der Finanzbuchhal
 tung nach § 28 GemHVO mit Begründung warum aufgrund der Haushaltsausführ
 ung keine Nachtragssatzung  mit Nachtragshaushaltsplan vorgelegt werden 
 kann\n9. Anzeigepflicht gemäß § 18 HKO i.V.m. § 26 a HGO\n10. Verschiede
 nes
UID:pofOnsD962laJIfl
END:VEVENT
END:VCALENDAR
