BEGIN:VCALENDAR
PRODID:-//IONAS//RIS//DE
VERSION:2.0
CALSCALE:GREGORIAN
BEGIN:VEVENT
DTSTAMP:20260421T011130Z
DTSTART:20251104T150000
DTEND:20251104T161400
SUMMARY:Ausschuss für Finanzen\, Wirtschaft\, Tourismus\, Mobilität und B
 auen (31. Sitzung)
LOCATION:Kreishaus in Korbach\, Sitzungssaal I (1. OG)\, Südring 2\, 3449
 7 Korbach
DESCRIPTION:Tagesordnungspunkte\nI. öffentliche Sitzung\n1. Verbesserung 
 des sozialen Wohnungsbaus im Landkreis Waldeck-Frankenberg\n•Gemeinsamer
  Antrag der Fraktionen CDU und SPD\n2. Sukzessive Auflösung der Delta Wa
 ldeck-Frankenberg GmbH bis zum 31.12.2026\n3. 6. Änderung der Gebührensa
 tzung zur Abfallentsorgungssatzung des Landkreises Waldeck-Frankenberg v
 om 04.11.2013\n4. Wirtschaftsplan der Waldeckischen Domanialverwaltung f
 ür das Wirtschaftsjahr 2026\n5. Verschiedenes
UID:pqclc1lOtidWjLGN
END:VEVENT
END:VCALENDAR
