BEGIN:VCALENDAR
PRODID:-//IONAS//RIS//DE
VERSION:2.0
CALSCALE:GREGORIAN
BEGIN:VEVENT
DTSTAMP:20260421T010850Z
DTSTART:20211027T160500
DTEND:20211027T170000
SUMMARY:Ausschuss für Gesundheit\, Familie\, Jugend und Soziales (3. Sitz
 ung)
LOCATION:Kreishaus in Korbach\, Sitzungssaal I (1. OG)\, Südring 2\, 3449
 7 Korbach
DESCRIPTION:Tagesordnungspunkte\n1. I. Nachtragshaushaltssatzung und I. N
 achtragshaushaltsplan für das Haushaltsjahr 2021 sowie Fortschreibung de
 r Ergebnis- und Finanzplanung für den Zeitraum 2020 – 2024\n2. Verschied
 enes
UID:qZmTWNdjq4Y9BUXo
END:VEVENT
END:VCALENDAR
