BEGIN:VCALENDAR
PRODID:-//IONAS//RIS//DE
VERSION:2.0
CALSCALE:GREGORIAN
BEGIN:VEVENT
DTSTAMP:20260421T011201Z
DTSTART:20260813T160000
DTEND:20260813T170000
SUMMARY:Ausschuss für Gesundheit\, Familie\, Jugend und Soziales (2. Sitz
 ung)
LOCATION:Kreishaus in Korbach\, Sitzungssaal I (1. OG)\, Südring 2\, 3449
 7 Korbach
DESCRIPTION:
UID:q_psvNVpjgVPUJDr
END:VEVENT
END:VCALENDAR
