BEGIN:VCALENDAR
PRODID:-//IONAS//RIS//DE
VERSION:2.0
CALSCALE:GREGORIAN
BEGIN:VEVENT
DTSTAMP:20260421T010342Z
DTSTART:20250331T150000
DTEND:20250331T155000
SUMMARY:Ausschuss für Schule\, Bildung\, Sport\, Digitalisierung und Schu
 lbauten (14. Sitzung)
LOCATION:Kreishaus in Korbach\, Sitzungssaal I (1. OG)\, Südring 2\, 3449
 7 Korbach
DESCRIPTION:Tagesordnungspunkte\n1. Sachbericht zur Schulsozialarbeit für
  das Schuljahr 2023/2024\n2. Verschiedenes
UID:rB7_OlIwSUp21ntp
END:VEVENT
END:VCALENDAR
