BEGIN:VCALENDAR
PRODID:-//IONAS//RIS//DE
VERSION:2.0
CALSCALE:GREGORIAN
BEGIN:VEVENT
DTSTAMP:20260421T011013Z
DTSTART:20230511T153000
DTEND:20230511T161000
SUMMARY:Ausschuss für Finanzen\, Wirtschaft\, Tourismus\, Mobilität und B
 auen (14. Sitzung)
LOCATION:Kreishaus in Korbach\, Sitzungssaal I (1. OG)\, Südring 2\, 3449
 7 Korbach
DESCRIPTION:Tagesordnungspunkte\nI. öffentliche Sitzung\n1. „Gemeinsame k
 limaschützende Wärmeplanung“\n•       Gemeinsamer Antrag der Fraktionen 
 von BÜNDNIS 90/DIE GRÜNEN\, FW und FDP\n2. Unterrichtung über die Genehm
 igung von überplanmäßigen Aufwendungen im Teilergebnishaushalt 082 „Spor
 tstätten und Bäder“\, im Haushaltsjahr 2023\n3. Verschiedenes
UID:w8aatPn6Qw1HHlvd
END:VEVENT
END:VCALENDAR
