BEGIN:VCALENDAR
PRODID:-//IONAS//RIS//DE
VERSION:2.0
CALSCALE:GREGORIAN
BEGIN:VEVENT
DTSTAMP:20260421T010517Z
DTSTART:20240701T150000
DTEND:20240701T163000
SUMMARY:Ausschuss für Schule\, Bildung\, Sport\, Digitalisierung und Schu
 lbauten (12. Sitzung)
LOCATION:Kreishaus in Korbach\, Sitzungssaal I (1. OG)\, Südring 2\, 3449
 7 Korbach
DESCRIPTION:Tagesordnungspunkte\n1. Schulentwicklungsplanung 2023-2027\n2
 . Sachstand Schulbauprojekte\n3. Sachstand Konzept Ganztag\n4. Verschied
 enes
UID:0byhLQ02z8O6YtIf
END:VEVENT
END:VCALENDAR
