BEGIN:VCALENDAR
PRODID:-//IONAS//RIS//DE
VERSION:2.0
CALSCALE:GREGORIAN
BEGIN:VEVENT
DTSTAMP:20260421T010415Z
DTSTART:20261210T150000
DTEND:20261210T160000
SUMMARY:Ausschuss für Schule\, Bildung\, Sport\, Digitalisierung und Schu
 lbauten (5. Sitzung)
LOCATION:Kreishaus in Korbach\, Sitzungssaal I (1. OG)\, Südring 2\, 3449
 7 Korbach
DESCRIPTION:
UID:1Rz2SkXLOuZEUVHz
END:VEVENT
END:VCALENDAR
