BEGIN:VCALENDAR
PRODID:-//IONAS//RIS//DE
VERSION:2.0
CALSCALE:GREGORIAN
BEGIN:VEVENT
DTSTAMP:20260421T010041Z
DTSTART:20260304T150000
DTEND:20260304T162000
SUMMARY:Jugendhilfeausschuss (14. Sitzung)
LOCATION:Kreishaus in Korbach\, Sitzungssaal I (1. OG)\, Südring 2\, 3449
 7 Korbach
DESCRIPTION:Tagesordnungspunkte\n1 Begrüßung\n2 Genehmigung des Protokoll
 s der Sitzung des Jugendhilfeausschusses vom 03.12.2025\n3 Interprofessi
 oneller Qualitätszirkel Frühe Hilfen\n4 Programm Babylotse\n5 Verschiede
 nes
UID:23oV6Jlyx2Akg5BG
END:VEVENT
END:VCALENDAR
