BEGIN:VCALENDAR
PRODID:-//IONAS//RIS//DE
VERSION:2.0
CALSCALE:GREGORIAN
BEGIN:VEVENT
DTSTAMP:20260421T010342Z
DTSTART:20210531T160000
DTEND:20210531T163000
SUMMARY:Ausschuss für Schule\, Bildung\, Sport\, Digitalisierung und Schu
 lbauten (1. Sitzung)
LOCATION:Kreishaus in Korbach\, großer Sitzungssaal\, Südring 2\, 34497 K
 orbach
DESCRIPTION:Tagesordnungspunkte\n1. Wahl der oder des Ausschussvorsitzend
 en\n2. Wahl der Schriftführerinnen und der Schriftführer\n3. Wahl der od
 er des stellvertretenden Ausschussvorsitzenden\n4. Neufassung der Satzun
 g über die Bildung von Schulbezirken für die Grundschulen des Landkreise
 s Waldeck-Frankenberg\n5. Verschiedenes
UID:7ncjJPnNhpp6LiAw
END:VEVENT
END:VCALENDAR
