BEGIN:VCALENDAR
PRODID:-//IONAS//RIS//DE
VERSION:2.0
CALSCALE:GREGORIAN
BEGIN:VEVENT
DTSTAMP:20260421T011013Z
DTSTART:20221102T150000
DTEND:20221102T154000
SUMMARY:Ausschuss für Landwirtschaft\, Forsten\, Natur\, Klima\, Energie 
 und Regionalentwicklung (8. Sitzung)
LOCATION:Kreishaus in Korbach\, Sitzungssaal I (1. OG)\, Südring 2\, 3449
 7 Korbach
DESCRIPTION:Tagesordnungspunkte\n1. Jahresabschluss 2021 der Waldeckische
 n Domanialverwaltung\; Feststellung und Ergebnisverwendung\n2. Wirtschaf
 tsplan der Waldeckischen Domanialverwaltung für das Wirtschaftsjahr 2023
 \n3. Verschiedenes
UID:7rTJIgPjrge2UY9O
END:VEVENT
END:VCALENDAR
