BEGIN:VCALENDAR
PRODID:-//IONAS//RIS//DE
VERSION:2.0
CALSCALE:GREGORIAN
BEGIN:VEVENT
DTSTAMP:20260421T005553Z
DTSTART:20221130T150000
DTEND:20221130T163000
SUMMARY:Jugendhilfeausschuss (6. Sitzung)
LOCATION:Kreishaus in Korbach\, Sitzungssaal I (1. OG)\, Südring 2\, 3449
 7 Korbach
DESCRIPTION:Tagesordnungspunkte\n1. Begrüßung\, Feststellung der Beschlus
 sfähigkeit\n2. Vorstellung des Konzepts \"HaLT-Hart am Limit\" durch Fra
 u Ritter\n3. Vorstellung von \"Fred - Frühintervention bei erstauffällig
 en Droenkonsument: innen\" durch Frau Ritter\n4. Haushalt 2023\n5. Versc
 hiedenes
UID:9tNr8reGEgnNsS2h
END:VEVENT
END:VCALENDAR
