BEGIN:VCALENDAR
PRODID:-//IONAS//RIS//DE
VERSION:2.0
CALSCALE:GREGORIAN
BEGIN:VEVENT
DTSTAMP:20260421T010154Z
DTSTART:20211025T160000
DTEND:20211025T172500
SUMMARY:Ausschuss für Schule\, Bildung\, Sport\, Digitalisierung und Schu
 lbauten (2. Sitzung)
LOCATION:Kreishaus in Korbach\, Sitzungssaal I (1. OG)\, Südring 2\, 3449
 7 Korbach
DESCRIPTION:Tagesordnungspunkte\n1. I. Nachtragshaushaltssatzung und I. N
 achtragshaushaltsplan für das Haushaltsjahr 2021 sowie Fortschreibung de
 r Ergebnis- und Finanzplanung für den Zeitraum 2020 – 2024\n2. Digitalpa
 kt beschleunigen – Schulen einbeziehen\nAntrag der FDP-Fraktion\nÄnderun
 gsantrag der Abg. Preysing\n3. Neubau der Hans-Viessmann-Schule auf dem 
 Schlachthofgelände in Bad Wildungen\; hier: Aufhebung des Kreistagsbesch
 lusses vom 02.11.2020\n4. Verschiedenes
UID:B52d1-YmEM0n63FN
END:VEVENT
END:VCALENDAR
