BEGIN:VCALENDAR
PRODID:-//IONAS//RIS//DE
VERSION:2.0
CALSCALE:GREGORIAN
BEGIN:VEVENT
DTSTAMP:20260421T010931Z
DTSTART:20210913T150000
DTEND:20210913T161500
SUMMARY:Ausschuss für Landwirtschaft\, Forsten\, Natur\, Klima\, Energie 
 und Regionalentwicklung (3. Sitzung)
LOCATION:Kreishaus in Korbach\, Sitzungssaal I (1. OG)\, Südring 2\, 3449
 7 Korbach
DESCRIPTION:Tagesordnungspunkte\n1. Klimaschutz\nAntrag der Fraktion BÜND
 NIS 90/DIE GRÜNEN und Änderungsantrag der AfD-Fraktion\nGroße Anfrage de
 r AfD-Fraktion\nBeschlussvorschlag des Kreisausschusses betr. Erstellung
  eines Klimaschutzkonzeptes für den Landkreis Waldeck-Frankenberg sowie 
 Beitritt zum Bündnis „Hessen aktiv: Die Klima-Kommunen“\n2. Verschiedene
 s
UID:HE0-lfxs3UfHrj1g
END:VEVENT
END:VCALENDAR
