BEGIN:VCALENDAR
PRODID:-//IONAS//RIS//DE
VERSION:2.0
CALSCALE:GREGORIAN
BEGIN:VEVENT
DTSTAMP:20260421T011628Z
DTSTART:20240425T150000
DTEND:20240425T163500
SUMMARY:Ausschuss für Finanzen\, Wirtschaft\, Tourismus\, Mobilität und B
 auen (20. Sitzung)
LOCATION:Kreishaus - Verwaltungsstelle - Frankenberg (Eder)\, ehemaliger 
 Kreistagssitzungssaal (1. OG)\, Bahnhofstraße 8-12\, 35066 Frankenberg (
 Eder)
DESCRIPTION:Tagesordnungspunkte\nI. öffentliche Sitzung\n1. Änderung der 
 Haushaltssatzung und der Haushaltsplanung für das Jahr 2024\n2. Klimasch
 utzkonzept des Landkreises Waldeck-Frankenberg\n3. Green-Trail – Meilens
 teinplanung und Vorstellung Marketingkonzept\n4. Verschiedenes
UID:JpEjORqtLYhSjJbe
END:VEVENT
END:VCALENDAR
