BEGIN:VCALENDAR
PRODID:-//IONAS//RIS//DE
VERSION:2.0
CALSCALE:GREGORIAN
BEGIN:VEVENT
DTSTAMP:20260421T005409Z
DTSTART:20250219T150000
DTEND:20250219T161300
SUMMARY:Jugendhilfeausschuss (11. Sitzung)
LOCATION:Kreishaus in Korbach\, Sitzungssaal I (1. OG)\, Südring 2\, 3449
 7 Korbach
DESCRIPTION:Tagesordnungspunkte\n1. Begrüßung\, Feststellung der Beschlus
 sfähigkeit\n2. Wahl des Schriftführers/der Schriftführerin\n3. Junge Men
 schen mit besonderen Bedarfen\n4. Kennzahlenvergleich SGB VIII - Bericht
 sjahr 2023\n5. Vorstellung und Beschluss des Haushaltsentwurfes 2025 - F
 achdienst Jugend\n6. Verschiedenes
UID:KDBAF0opBVkMGm0Q
END:VEVENT
END:VCALENDAR
