BEGIN:VCALENDAR
PRODID:-//IONAS//RIS//DE
VERSION:2.0
CALSCALE:GREGORIAN
BEGIN:VEVENT
DTSTAMP:20260421T010302Z
DTSTART:20230703T150000
DTEND:20230703T153000
SUMMARY:Ausschuss für Schule\, Bildung\, Sport\, Digitalisierung und Schu
 lbauten (8. Sitzung)
LOCATION:Kreishaus in Korbach\, Sitzungssaal I (1. OG)\, Südring 2\, 3449
 7 Korbach
DESCRIPTION:Tagesordnungspunkte\n1. Änderung der Richtlinien über die Tei
 lnahme an Betreuungsangeboten an Grundschulen und Grundstufen der Förder
 schulen (Förderschwerpunkte Lernen und Sprachheilförderung) sowie am Bil
 dungs- und Betreuungsangebot „Pakt für den Nachmittag“\n2. Vorlage der P
 lanung für den Neubau der Grundschule Goddelsheim\n3. Erstellung eines S
 chulkonzepts für den Schulstandort Bad Wildungen\n4. Verschiedenes
UID:KbmPUJoZCIrmr-2q
END:VEVENT
END:VCALENDAR
