BEGIN:VCALENDAR
PRODID:-//IONAS//RIS//DE
VERSION:2.0
CALSCALE:GREGORIAN
BEGIN:VEVENT
DTSTAMP:20260421T005559Z
DTSTART:20251203T150000
DTEND:20251203T163000
SUMMARY:Jugendhilfeausschuss (13. Sitzung)
LOCATION:Kreishaus in Korbach\, Sitzungssaal I (1. OG)\, Südring 2\, 3449
 7 Korbach
DESCRIPTION:Tagesordnungspunkte\n1. Begrüßung\n2. Genehmigung des Protoko
 lls der Sitzung des Jugendhilfeausschusses vom 10.09.2025\n4. Kindergart
 enbedarfsplanung für den Landkreis Waldeck-Frankenberg\n5. Verschiedenes
 
UID:Q-FRTD9bHgAKtw81
END:VEVENT
END:VCALENDAR
