BEGIN:VCALENDAR
PRODID:-//IONAS//RIS//DE
VERSION:2.0
CALSCALE:GREGORIAN
BEGIN:VEVENT
DTSTAMP:20260421T012409Z
DTSTART:20231102T150000
DTEND:20231102T162000
SUMMARY:Ausschuss für Finanzen\, Wirtschaft\, Tourismus\, Mobilität und B
 auen (17. Sitzung)
LOCATION:Kreishaus in Korbach\, Sitzungssaal I (1. OG)\, Südring 2\, 3449
 7 Korbach
DESCRIPTION:Tagesordnungspunkte\nI. öffentliche Sitzung\n1. Jahresabschlu
 ss 2022 der Waldeckischen Domanialverwaltung\n2. Wirtschaftsplan der Wal
 deckischen Domanialverwaltung für das Wirtschaftsjahr 2024\n3. Mobilfunk
 abdeckung messen – Netz im Landkreis verbessern \nAntrag der FDP-Fraktio
 n\n4. „Aktionsprogramm Kommune – Frauen in die Politik!“\n5. Grundschule
  Goddelsheim \nhier: Vertrag zwischen Stadt und Landkreis\n6. Verbesseru
 ng und Neuordnung des Grundschulangebots im Bereich der Stadt Frankenber
 g\n•  Beschluss des Kreistags vom 11.09.2023 (KT 72/2023)\n7. Unterricht
 ung über die Genehmigung von überplanmäßigen Aufwendungen in den Teilerg
 ebnishaushalten 050 Grundversorgung und Hilfen nach SGB XII\, 051 Grunds
 icherung für Arbeitsuchende nach SGB II und 059 Sonstige soziale Hilfen 
 und Leistungen im Haushaltsjahr 2023\n8. Genehmigung von überplanmäßigen
  Aufwendungen im Teilergebnishaushalt 071 Produkt 07.1.010 „Kreiskranken
 haus Frankenberg gGmbH“ im Haushaltsjahr 2023\n9. Verschiedenes
UID:TBLmw8Q5cg6niXiE
END:VEVENT
END:VCALENDAR
