BEGIN:VCALENDAR
PRODID:-//IONAS//RIS//DE
VERSION:2.0
CALSCALE:GREGORIAN
BEGIN:VEVENT
DTSTAMP:20260421T010850Z
DTSTART:20261028T160000
DTEND:20261028T170000
SUMMARY:Ausschuss für Gesundheit\, Familie\, Jugend und Soziales (4. Sitz
 ung)
LOCATION:Kreishaus in Korbach\, Sitzungssaal I (1. OG)\, Südring 2\, 3449
 7 Korbach
DESCRIPTION:
UID:VlYLdmviORIaou20
END:VEVENT
END:VCALENDAR
