BEGIN:VCALENDAR
PRODID:-//IONAS//RIS//DE
VERSION:2.0
CALSCALE:GREGORIAN
BEGIN:VEVENT
DTSTAMP:20260421T010629Z
DTSTART:20250909T140000
DTEND:20250909T145500
SUMMARY:Ausschuss für Landwirtschaft\, Forsten\, Natur\, Klima\, Energie 
 und Regionalentwicklung (20. Sitzung)
LOCATION:Kreishaus in Korbach\, Sitzungssaal I (1. OG)\, Südring 2\, 3449
 7 Korbach
DESCRIPTION:Tagesordnungspunkte\n1. Vorstellung Klima- und Energiebericht
 \n2. Einführung eines kreisweiten Wettbewerbs zur Senkung des Energiever
 brauchs in Schulen des Kreises\nAntrag der Fraktion BÜNDNIS 90/DIE GRÜNE
 N\n3. Verschiedenes
UID:WcLuSCwGyRzHyXqn
END:VEVENT
END:VCALENDAR
