BEGIN:VCALENDAR
PRODID:-//IONAS//RIS//DE
VERSION:2.0
CALSCALE:GREGORIAN
BEGIN:VEVENT
DTSTAMP:20260421T011324Z
DTSTART:20241011T170000
DTEND:20241011T174000
SUMMARY:Ausschuss für Finanzen\, Wirtschaft\, Tourismus\, Mobilität und B
 auen (23. Sitzung)
LOCATION:Kreishaus in Korbach\, Kreisausschuss-Sitzungszimmer (2. OG)\, S
 üdring 2\, 34497 Korbach
DESCRIPTION:Tagesordnungspunkte\nI. öffentliche Sitzung\n1. Sicherstellun
 g der Finanzierung der Kreiskrankenhaus Frankenberg gGmbH
UID:X-LWxRtvtbYOzeb2
END:VEVENT
END:VCALENDAR
