BEGIN:VCALENDAR
PRODID:-//IONAS//RIS//DE
VERSION:2.0
CALSCALE:GREGORIAN
BEGIN:VEVENT
DTSTAMP:20260421T010504Z
DTSTART:20210913T163000
DTEND:20210913T165200
SUMMARY:Ausschuss für Gesundheit\, Familie\, Jugend und Soziales (2. Sitz
 ung)
LOCATION:Kreishaus in Korbach\, Sitzungssaal I (1. OG)\, Südring 2\, 3449
 7 Korbach
DESCRIPTION:Tagesordnungspunkte\n1. Jahresberichte der Patientenfürsprech
 erinnen und Patientenfürsprecher der Krankenhäuser im Landkreis Waldeck-
 Frankenberg für das Jahr 2020\n2. Verschiedenes
UID:ctrErTAOiHiN5Jr0
END:VEVENT
END:VCALENDAR
