BEGIN:VCALENDAR
PRODID:-//IONAS//RIS//DE
VERSION:2.0
CALSCALE:GREGORIAN
BEGIN:VEVENT
DTSTAMP:20260421T010649Z
DTSTART:20220615T160000
DTEND:20220615T164500
SUMMARY:Ausschuss für Gesundheit\, Familie\, Jugend und Soziales (5. Sitz
 ung)
LOCATION:Kreishaus in Korbach\, Sitzungssaal I (1. OG)\, Südring 2\, 3449
 7 Korbach
DESCRIPTION:Tagesordnungspunkte\n1. \"Betreuung“\n•Antrag der Fraktion BÜ
 NDNIS 90/DIE GRÜNEN\n2. Informationsvorlage zur Entwicklung und zum aktu
 ellen Stand des Projekts „Babylotse“\nLotsendienst an Geburtsstationen d
 er Kliniken im Landkreis Waldeck-Frankenberg\n3. Verschiedenes
UID:fDWWlfIXkzu3arxJ
END:VEVENT
END:VCALENDAR
