BEGIN:VCALENDAR
PRODID:-//IONAS//RIS//DE
VERSION:2.0
CALSCALE:GREGORIAN
BEGIN:VEVENT
DTSTAMP:20260421T010343Z
DTSTART:20250217T153000
DTEND:20250217T160000
SUMMARY:Ausschuss für Schule\, Bildung\, Sport\, Digitalisierung und Schu
 lbauten (13. Sitzung)
LOCATION:Kreishaus in Korbach\, Sitzungssaal I (1. OG)\, Südring 2\, 3449
 7 Korbach
DESCRIPTION:Tagesordnungspunkte\n1. Haushaltsplanung 2025 – Fortschreibun
 g des Haushaltssicherungskonzepts nach § 92a HGO für den Zeitraum 2024-2
 028 (Beratung und Beschlussfassung)\n2. Haushaltssatzung und Haushaltspl
 an für das Haushaltsjahr 2025\, Investitionsprogramm und Ergebnis- und F
 inanzplanung für den Zeitraum 2024-2028 (Beratung und Beschlussfassung)\
 n3. Information zum Ausbau des Ganztagsangebotes\n4. Sachbericht Bildung
  für nachhaltige Entwicklung (BNE) sowie Vorstellung einer Masterarbeit\
 n5. Verschiedenes
UID:jYMzxp09TEmjl7vb
END:VEVENT
END:VCALENDAR
