BEGIN:VCALENDAR
PRODID:-//IONAS//RIS//DE
VERSION:2.0
CALSCALE:GREGORIAN
BEGIN:VEVENT
DTSTAMP:20260421T010808Z
DTSTART:20230207T150000
DTEND:20230207T151500
SUMMARY:Ausschuss für Gesundheit\, Familie\, Jugend und Soziales (7. Sitz
 ung)
LOCATION:Kreishaus in Korbach\, Sitzungssaal I (1. OG)\, Südring 2\, 3449
 7 Korbach
DESCRIPTION:Tagesordnungspunkte\n1. Haushaltssatzung und Haushaltsplan fü
 r das Haushaltsjahr 2023\, Investitionsprogramm und Ergebnis- und Finanz
 planung für den Zeitraum 2022 – 2026\n(Beratung und Beschlussfassung)\n2
 . Verschiedenes
UID:lLexBcMAg4rBlTgd
END:VEVENT
END:VCALENDAR
