BEGIN:VCALENDAR
PRODID:-//IONAS//RIS//DE
VERSION:2.0
CALSCALE:GREGORIAN
BEGIN:VEVENT
DTSTAMP:20260421T010042Z
DTSTART:20220112T150000
DTEND:20220112T160000
SUMMARY:Jugendhilfeausschuss (3. Sitzung)
LOCATION:n.n.\, n.n.\, \, null null
DESCRIPTION:Tagesordnungspunkte\n1. Begrüßung\, Feststellung der Beschlus
 sfähigkeit\n2. Haushalt 2022\n3. Verschiedenes
UID:qmmW3VpEHytXW7zb
END:VEVENT
END:VCALENDAR
