BEGIN:VCALENDAR
PRODID:-//IONAS//RIS//DE
VERSION:2.0
CALSCALE:GREGORIAN
BEGIN:VEVENT
DTSTAMP:20260421T010153Z
DTSTART:20220328T140000
DTEND:20220328T144400
SUMMARY:Ausschuss für Schule\, Bildung\, Sport\, Digitalisierung und Schu
 lbauten (4. Sitzung)
LOCATION:Kreishaus in Korbach\, Sitzungssaal I (1. OG)\, Südring 2\, 3449
 7 Korbach
DESCRIPTION:Tagesordnungspunkte\n1. Anschluss Schulen an Breitband\n2. Ve
 rschiedenes
UID:wpSmRu1Ajoz7zd6I
END:VEVENT
END:VCALENDAR
