BEGIN:VCALENDAR
PRODID:-//IONAS//RIS//DE
VERSION:2.0
CALSCALE:GREGORIAN
BEGIN:VEVENT
DTSTAMP:20260421T010204Z
DTSTART:20251215T150000
DTEND:20251215T160500
SUMMARY:Ausschuss für Schule\, Bildung\, Sport\, Digitalisierung und Schu
 lbauten (18. Sitzung)
LOCATION:Kreishaus in Korbach\, Sitzungssaal I (1. OG)\, Südring 2\, 3449
 7 Korbach
DESCRIPTION:Tagesordnungspunkte\n1. Haushaltsplanung 2026 - Fortschreibun
 g des Haushaltssicherungskonzeptes nach § 92a HGO für\nden Zeitraum 2025
 -2029 (Beratung und Beschlussfassung)\n2. Haushaltssatzung und Haushalts
 plan für das Haushaltsjahr 2026\, Investitionsprogramm\nund Ergebnis- un
 d Finanzplanung für den Zeitraum 2025-2029 (Beratung und Beschlussfassun
 g)\n3. Neufassung der Benutzungs- und Entgeltordnung des Medienzentrums 
 Waldeck-Frankenberg\n4. Projektvorstellung Neubau Matthias-Bauer-Schule\
 n5. Verschiedenes
UID:-piZOLsQ92_fiBIx
END:VEVENT
END:VCALENDAR
