BEGIN:VCALENDAR
PRODID:-//IONAS//RIS//DE
VERSION:2.0
CALSCALE:GREGORIAN
BEGIN:VEVENT
DTSTAMP:20260421T004157Z
DTSTART:20230704T150000
DTEND:20230704T161000
SUMMARY:Ausschuss für Landwirtschaft\, Forsten\, Natur\, Klima\, Energie 
 und Regionalentwicklung (12. Sitzung)
LOCATION:Kreishaus in Korbach\, Sitzungssaal I (1. OG)\, Südring 2\, 3449
 7 Korbach
DESCRIPTION:Tagesordnungspunkte\n1. Interkommunale Energie- und Wärmeplan
 ung im Landkreis Waldeck-Frankenberg\n2. Jagdsteuererhebung im Landkreis
  Waldeck-Frankenberg\n3. Verschiedenes
UID:-sNnWr3UCYStrt5V
END:VEVENT
END:VCALENDAR
