BEGIN:VCALENDAR
PRODID:-//IONAS//RIS//DE
VERSION:2.0
CALSCALE:GREGORIAN
BEGIN:VEVENT
DTSTAMP:20260420T205953Z
DTSTART:20240301T140000
DTEND:20240301T182500
SUMMARY:Kreistag (20. Sitzung)
LOCATION:Kreishaus in Korbach\, Sitzungssaal I (1. OG)\, Südring 2\, 3449
 7 Korbach
DESCRIPTION:Tagesordnungspunkte\nI. öffentliche Sitzung\n1. Fragestunde n
 ach § 17 der Geschäftsordnung\n2. Aktuelle Stunde\n3. Haushaltssatzung u
 nd Haushaltsplan für das Haushaltsjahr 2024\, Investitionsprogramm und E
 rgebnis- und Finanzplanung für den Zeitraum 2023-2027 sowie Haushaltssic
 herungskonzept nach § 92a HGO für den Zeitraum 2024-2027 (Beratung und B
 eschlussfassung)\n4. Sachstand Alltagsradverkehrskonzept\n•Große Anfrage
  der Fraktion BÜNDNIS 90/DIE GRÜNEN\n5. Neufassung der „Richtlinie zur F
 örderung der Radverkehrsinfrastruktur im Landkreis Waldeck-Frankenberg“\
 n6. Erweiterung des Pflegestützpunktes  - Gemeinsamer Antrag der Kreista
 gsfraktionen von CDU und SPD\n7. Einführung einer „Bezahlkarte“ für Asyl
 bewerber und Geduldete\n•  Antrag der AfD-Fraktion\n8. Vollautomatisiert
 e Mini-Supermärkte ermöglichen\nAntrag der FDP-Fraktion\n9. Wahl eines/r
  stellvertretenden Patientenfürsprechers/in für die Gesundheit Nordhesse
 n Krankenhaus Bad Arolsen GmbH\n10. Flüchtlingsunterbringung\;\n2. Änder
 ung der Unterbringungsgebührensatzung des Landkreises (UGebS)\n11. Imple
 mentierung eines neuen Schlachtstättenangebots im Landkreis Waldeck-Fran
 kenberg  -Abschlussbericht\n12. Personalstrategie - Aufbau Personalcontr
 olling für den Landkreis Waldeck-Frankenberg\n13. Energiebilanz 2022\n14
 . Bericht über den Haushaltsvollzug für das IV. Quartal 2023 auf der Gru
 ndlage der Finanzbuchhaltung nach § 28 GemHVO\n15. Verschiedenes
UID:3v1UXGPsHeYgCK97
END:VEVENT
END:VCALENDAR
