BEGIN:VCALENDAR
PRODID:-//IONAS//RIS//DE
VERSION:2.0
CALSCALE:GREGORIAN
BEGIN:VEVENT
DTSTAMP:20260421T002814Z
DTSTART:20221207T140000
DTEND:20221207T151000
SUMMARY:Ausschuss für Landwirtschaft\, Forsten\, Natur\, Klima\, Energie 
 und Regionalentwicklung (9. Sitzung)
LOCATION:Kreishaus in Korbach\, Sitzungssaal I (1. OG)\, Südring 2\, 3449
 7 Korbach
DESCRIPTION:Tagesordnungspunkte\n1. Waldeckische Domanialverwaltung\;\nNe
 ufassung der Betriebssatzung\n2. Erwerb von Anteilen durch die Waldeckis
 che Domanialverwaltung am Zweckverband EWF\n3. „Freiflächen Photovoltaik
  mit Gewinn“\nAntrag der Fraktion BÜNDNIS 90/DIE GRÜNEN\n4. Implementier
 ung eines neuen Schlachtstättenangebots im Landkreis Waldeck-Frankenberg
 \n5. Verschiedenes
UID:49VEj4aK91vAxkLN
END:VEVENT
END:VCALENDAR
