BEGIN:VCALENDAR
PRODID:-//IONAS//RIS//DE
VERSION:2.0
CALSCALE:GREGORIAN
BEGIN:VEVENT
DTSTAMP:20260421T004359Z
DTSTART:20240704T150000
DTEND:20240704T165100
SUMMARY:Ausschuss für Finanzen\, Wirtschaft\, Tourismus\, Mobilität und B
 auen (21. Sitzung)
LOCATION:Kreishaus in Korbach\, Sitzungssaal I (1. OG)\, Südring 2\, 3449
 7 Korbach
DESCRIPTION:Tagesordnungspunkte\nI. öffentliche Sitzung\n1. Abschluss ein
 es Projektvertrages für Planung\, Errichtung\, Finanzierung und Betrieb 
 eines Unterrichtsgebäudes für die THM im Wege eines PPP-Modells\n2. Klim
 aschutzkonzept des Landkreises Waldeck-Frankenberg\n3. Sonderverkehrskon
 zept Edersee: Umsetzung\n4. Beschleunigung der Schienenstrecke R97 Brilo
 n-Marburg mit Reaktivierung Frankenberg-Battenberg und Neubau der Statio
 n Willingen-Stryck\n5. Anzeigepflicht gemäß § 18 HKO i.V.m. § 26 a HGO\n
 6. Verschiedenes
UID:7enB2lkgD6GoyNgt
END:VEVENT
END:VCALENDAR
