BEGIN:VCALENDAR
PRODID:-//IONAS//RIS//DE
VERSION:2.0
CALSCALE:GREGORIAN
BEGIN:VEVENT
DTSTAMP:20260421T004248Z
DTSTART:20260527T150000
DTEND:20260527T160000
SUMMARY:Ausschuss für Landwirtschaft\, Forsten\, Natur\, Klima\, Energie 
 und Regionalentwicklung (1. Sitzung)
LOCATION:Kreishaus in Korbach\, Sitzungssaal I (1. OG)\, Südring 2\, 3449
 7 Korbach
DESCRIPTION:
UID:Dpw2CgrG35zw26xy
END:VEVENT
END:VCALENDAR
