BEGIN:VCALENDAR
PRODID:-//IONAS//RIS//DE
VERSION:2.0
CALSCALE:GREGORIAN
BEGIN:VEVENT
DTSTAMP:20260420T205953Z
DTSTART:20240429T140000
DTEND:20240429T162500
SUMMARY:Kreistag (21. Sitzung)
LOCATION:Kreishaus in Korbach\, Sitzungssaal I (1. OG)\, Südring 2\, 3449
 7 Korbach
DESCRIPTION:Tagesordnungspunkte\nI. öffentliche Sitzung\n1. Fragestunde n
 ach § 17 der Geschäftsordnung\n2. Aktuelle Stunde\n3. Cybersicherheit\nG
 roße Anfrage der AfD-Fraktion\n4. Änderung der Haushaltssatzung und der 
 Haushaltsplanung für das Jahr 2024\n5. Schulentwicklungsplanung 2023-202
 7\n6. Neufassung der Satzung über die Bildung von Schulbezirken für die 
 Grundschulen des Landkreises Waldeck-Frankenberg\n7. Klimaschutz durch B
 auen mit Holz\n•Gemeinsamer Antrag der Fraktionen von BÜNDNIS 90/DIE GRÜ
 NEN\; FDP und FW\n8. Klimaschutzkonzept des Landkreises Waldeck-Frankenb
 erg\n9. Verschiedenes
UID:T-nJRCUT0t1Dkbeh
END:VEVENT
END:VCALENDAR
