BEGIN:VCALENDAR
PRODID:-//IONAS//RIS//DE
VERSION:2.0
CALSCALE:GREGORIAN
BEGIN:VEVENT
DTSTAMP:20260421T004250Z
DTSTART:20241106T150000
DTEND:20241106T154100
SUMMARY:Ausschuss für Landwirtschaft\, Forsten\, Natur\, Klima\, Energie 
 und Regionalentwicklung (18. Sitzung)
LOCATION:Kreishaus in Korbach\, Sitzungssaal I (1. OG)\, Südring 2\, 3449
 7 Korbach
DESCRIPTION:Tagesordnungspunkte\n1. Jahresabschluss 2023 der Waldeckische
 n Domanialverwaltung\n2. Wirtschaftsplan der Waldeckischen Domanialverwa
 ltung für das Wirtschaftsjahr 2025\n3. Verschiedenes
UID:WfqG_koA0JwtgvqH
END:VEVENT
END:VCALENDAR
