BEGIN:VCALENDAR
PRODID:-//IONAS//RIS//DE
VERSION:2.0
CALSCALE:GREGORIAN
BEGIN:VEVENT
DTSTAMP:20260421T004257Z
DTSTART:20251030T150000
DTEND:20251030T161300
SUMMARY:Ausschuss für Landwirtschaft\, Forsten\, Natur\, Klima\, Energie 
 und Regionalentwicklung (21. Sitzung)
LOCATION:Kreishaus in Korbach\, Sitzungssaal I (1. OG)\, Südring 2\, 3449
 7 Korbach
DESCRIPTION:Tagesordnungspunkte\n1. Wirtschaftsplan der Waldeckischen Dom
 anialverwaltung für das Wirtschaftsjahr 2026\n2. Festlegung und Erläuter
 ung der Reihenfolge der Sanierung aller Gebäude des Landkreises Waldeck-
 Frankenberg\n3. Verschiedenes
UID:YLsbnaW2FzjVZIiN
END:VEVENT
END:VCALENDAR
