BEGIN:VCALENDAR
PRODID:-//IONAS//RIS//DE
VERSION:2.0
CALSCALE:GREGORIAN
BEGIN:VEVENT
DTSTAMP:20260420T205927Z
DTSTART:20250404T140000
DTEND:20250404T152500
SUMMARY:Kreistag (29. Sitzung)
LOCATION:Kreishaus in Korbach\, Sitzungssaal I (1. OG)\, Südring 2\, 3449
 7 Korbach
DESCRIPTION:Tagesordnungspunkte\nI. öffentliche Sitzung\n1. Fragestunde n
 ach § 17 der Geschäftsordnung\n2. Aktuelle Stunde\n3. Wahl von zwei wirt
 schaftlich besonders erfahrenen Personen in die Domanialkommission (stel
 lv. Mitglieder)\n4. Neuer Vertrag zur Zukunftssicherung der Bibliothek B
 rehm Stiftung\n5. Aufstellung von dritt- und/oder mischfinanzierten Proj
 ekten des Landkreises mit zugeordneten Stellen und weiteren Angaben\n• G
 emeinsamer Antrag der Kreistagsfraktionen von CDU und SPD\n6. Unterricht
 ung über die Genehmigung von überplanmäßigen Aufwendungen im Teilergebni
 shaushalt 063 Sonstige Leistungen der Kinder-\, Jugend- und Familienhilf
 e\, Budget 063010 Hilfe zur Erziehung und Budget 063050 Eingliederungshi
 lfe\, im Haushaltsjahr 2024\n7. Haushaltssatzung 2025: Beschlussfassung 
 gem. § 50 Abs. 5 Satz 3 HFAG (Ergebnis der Anhörung der zur Umlage verpf
 lichteten Kommunen)\n8. Verschiedenes
UID:bDdRCegU-zfjul-F
END:VEVENT
END:VCALENDAR
