BEGIN:VCALENDAR
PRODID:-//IONAS//RIS//DE
VERSION:2.0
CALSCALE:GREGORIAN
BEGIN:VEVENT
DTSTAMP:20260420T212647Z
DTSTART:20240708T140000
DTEND:20240708T170000
SUMMARY:Kreistag (22. Sitzung)
LOCATION:Kreishaus in Korbach\, Sitzungssaal I (1. OG)\, Südring 2\, 3449
 7 Korbach
DESCRIPTION:Tagesordnungspunkte\nI. öffentliche Sitzung\n1. Fragestunde n
 ach § 17 der Geschäftsordnung\n2. Aktuelle Stunde nach § 18 der Geschäft
 sordnung\n3. Beitritt des Landkreises Waldeck-Frankenberg als Partner de
 s Bündnisses „Gelbe Schleife“\n•Gemeinsamer Antrag der Fraktionen von CD
 U und SPD\n4. Schulentwicklungsplanung 2023-2027\n5. Wahl eines stellv. 
 Mitglieds der Schulleitung (§ 4 Abs. 2 Nr. 5 der Anstaltssatzung) in den
  Verwaltungsrat der Hans-Viessmann-Schule als Rechtlich Selbstständige B
 erufliche Schule\n6. Klimaschutzkonzept des Landkreises Waldeck-Frankenb
 erg\n7. Wahl von 2 Mitgliedern und Stellvertretungen des Personalrats in
  die Domanialkommission\n8. Abschluss eines Projektvertrages für Planung
 \, Errichtung\, Finanzierung und Betrieb eines Unterrichtsgebäudes für d
 ie THM im Wege eines PPP-Modells\n9. Sonderverkehrskonzept Edersee: Umse
 tzung\n10. Beschleunigung der Schienenstrecke R97 Brilon-Marburg mit Rea
 ktivierung Frankenberg-Battenberg und Neubau der Station Willingen-Stryc
 k\n11. Jahresberichte der Patientenfürsprecherinnen und Patientenfürspre
 cher der Krankenhäuser im Landkreis Waldeck-Frankenberg für das Jahr 202
 3\n12. Verschiedenes
UID:ejMxuis-nlIxYqp-
END:VEVENT
END:VCALENDAR
