BEGIN:VCALENDAR
PRODID:-//IONAS//RIS//DE
VERSION:2.0
CALSCALE:GREGORIAN
BEGIN:VEVENT
DTSTAMP:20260420T211055Z
DTSTART:20260129T140000
DTEND:20260129T155500
SUMMARY:Kreistag (34. Sitzung)
LOCATION:Kreishaus in Korbach\, Sitzungssaal I (1. OG)\, Südring 2\, 3449
 7 Korbach
DESCRIPTION:Tagesordnungspunkte\nI. öffentliche Sitzung\n1. Fragestunde n
 ach § 17 der Geschäftsordnung\n2. Aktuelle Stunde\n3. „Klimaschutzberich
 t und Maßnahmenumsetzung“ (nach §17 GO Kreistag)\n•	Große Anfrage von Bü
 ndnis 90/Die Grünen\n4. Zentrale Veranstaltung zum bundesweiten Veterane
 ntag\nAntrag der Fraktionen CDU und SPD\n5. Einrichtung eines Bällebads 
 im Kreishaus\n•  Antrag der AfD-Fraktion\n6. MVZ Frankenberg gGmbH\nSich
 erstellungsverpflichtung - Vereinbarung zur Rentenumlage\nder ZVK\n7. Fö
 rderprogramm „Sanierung kommunaler Sportstätten“\n8. Neufassung der „Ric
 htlinie zur Förderung der Radverkehrsinfrastruktur im Landkreis Waldeck-
 Frankenberg“\n9. Personalbemessung der in den Schulverwaltungen des Land
 kreises Waldeck-Frankenberg eingesetzten Mitarbeiter und Mitarbeiterinne
 n (Schulverwaltungskräfte)\n10. Unterrichtung über die Genehmigung von ü
 berplanmäßigen Aufwendungen im Haushaltsjahr 2025\nTeilhaushalt 011 Verw
 altungssteuerung und - service\n11. Verschiedenes
UID:gD-uI--I5mLoXyoq
END:VEVENT
END:VCALENDAR
