BEGIN:VCALENDAR
PRODID:-//IONAS//RIS//DE
VERSION:2.0
CALSCALE:GREGORIAN
BEGIN:VEVENT
DTSTAMP:20260421T005426Z
DTSTART:20250910T163000
DTEND:20250910T180000
SUMMARY:Jugendhilfeausschuss (12. Sitzung)
LOCATION:Kreishaus in Korbach\, Sitzungssaal I (1. OG)\, Südring 2\, 3449
 7 Korbach
DESCRIPTION:Tagesordnungspunkte\n1 Begrüßung\n2 Evaluierung der Richtlini
 en sowie Bewertung des Aktionsprogramms „Aufholen nach Corona“\n3 Förder
 programm „Jugend erleben“\n5 Verschiedenes
UID:jxZnDGHnCvZkg3o4
END:VEVENT
END:VCALENDAR
