BEGIN:VCALENDAR
PRODID:-//IONAS//RIS//DE
VERSION:2.0
CALSCALE:GREGORIAN
BEGIN:VEVENT
DTSTAMP:20260421T004258Z
DTSTART:20250401T150000
DTEND:20250401T153800
SUMMARY:Ausschuss für Finanzen\, Wirtschaft\, Tourismus\, Mobilität und B
 auen (27. Sitzung)
LOCATION:Kreishaus in Korbach\, Sitzungssaal I (1. OG)\, Südring 2\, 3449
 7 Korbach
DESCRIPTION:Tagesordnungspunkte\nI. öffentliche Sitzung\n1. Neuer Vertrag
  zur Zukunftssicherung der Bibliothek Brehm Stiftung\n2. Aufstellung von
  dritt- und/oder mischfinanzierten Projekten des Landkreises mit zugeord
 neten Stellen und weiteren Angaben\n• Gemeinsamer Antrag der Kreistagsfr
 aktionen von CDU und SPD\n3. Unterrichtung über die Genehmigung von über
 planmäßigen Aufwendungen im Teilergebnishaushalt 063 Sonstige Leistungen
  der Kinder-\, Jugend- und Familienhilfe\, Budget 063010 Hilfe zur Erzie
 hung und Budget 063050 Eingliederungshilfe\, im Haushaltsjahr 2024\n4. H
 aushaltssatzung 2025: Beschlussfassung gem. § 50 Abs. 5 Satz 3 HFAG (Erg
 ebnis der Anhörung der zur Umlage verpflichteten Kommunen)\n5. Verschied
 enes
UID:vcHjB2Vr7v6MoT5_
END:VEVENT
END:VCALENDAR
