BEGIN:VCALENDAR
PRODID:-//IONAS//RIS//DE
VERSION:2.0
CALSCALE:GREGORIAN
BEGIN:VEVENT
DTSTAMP:20260420T212713Z
DTSTART:20240927T133000
DTEND:20240927T151000
SUMMARY:Kreistag (23. Sitzung)
LOCATION:Philipp-Soldan-Forum\, Hauptsaal\, Teichweg 3\, 35066 Frankenber
 g (Eder)
DESCRIPTION:Tagesordnungspunkte\nI. öffentliche Sitzung\n1. Fragestunde n
 ach § 17 der Geschäftsordnung\n2. Aktuelle Stunde\n3. Wahl eines Ersatzm
 itgliedes in den Verwaltungsrat der Sparkasse Waldeck-Frankenberg\n4. Wa
 hl je eines Mitglieds und eines stellv. Mitglieds der Personalvertretung
 en in die Verwaltungsräte für die rechtlich selbstständigen beruflichen 
 Schulen (RSBS) Berufliche Schulen Korbach und Bad Arolsen sowie Hans-Vie
 ssmann-Schule\n5. Deponie Flechtdorf\n•   Große Anfrage der Fraktion Bün
 dnis 90/Die Grünen\n6. Abschiebungs-Offensive nach Syrien\n•   Resolutio
 nsantrag der AfD-Fraktion\n7. Ergebnis der Potentialuntersuchung im Rahm
 en einer möglichen Reaktivierung der Schienenstrecke Bad Wildungen – Hem
 furth-Edersee („Ederseebahn“)\n8. Ederseebahn-Radweg\nGemeinsamer Antrag
  der Fraktionen von CDU und SPD betr. Lückenschluss des Radwegs zwischen
    Buhlen und Giflitz\nAntrag der FW-Fraktion betr. Optimierung/Überarbe
 itung der Radwegesituation entlang der alten Bahnstrecke zwischen Korbac
 h und Giflitz mit dem Ziel einer optimierten Anbindung der Mittelzentren
  Bad Wildungen und Fritzlar\n9. Weiterbetrieb der Jugendburg Hessenstein
 \n•   Gemeinsamer Antrag der Fraktionen von CDU\, SPD\, FW und Bündnis 9
 0/DIE GRÜNEN\n10. Pflegehotel Willingen - Rangrücktritt einer bestehende
 n Darlehensforderung\n11. Bericht über den Haushaltsvollzug für das II. 
 Quartal 2024 auf der Grundlage der Finanzbuchhaltung nach § 28 GemHVO\n1
 2. Unterrichtung über die Genehmigung von überplanmäßigen Aufwendungen i
 m Teilergebnishaushalt 122 (Kreisstraßen) im Haushaltsjahr 2024\n13. Ver
 schiedenes
UID:zjln8kLR4Du9uyvO
END:VEVENT
END:VCALENDAR
