BEGIN:VCALENDAR
PRODID:-//IONAS//RIS//DE
VERSION:2.0
CALSCALE:GREGORIAN
BEGIN:VEVENT
DTSTAMP:20260421T012050Z
DTSTART:20241211T150000
DTEND:20241211T170500
SUMMARY:Ausschuss für Finanzen\, Wirtschaft\, Tourismus\, Mobilität und B
 auen (25. Sitzung)
LOCATION:Kreishaus in Korbach\, Sitzungssaal I (1. OG)\, Südring 2\, 3449
 7 Korbach
DESCRIPTION:Tagesordnungspunkte\nI. öffentliche Sitzung\n1. Krankenhausla
 ndschaft Waldeck-Frankenberg\n1.1 Vorstellung Medizinisches Zielbild\n1.
 2 Vorstellung geplanter Transaktionsprozess\n1.3 Eckpunkte der geplanten
  Krankenhausfusion\n2. Kreiskrankenhaus Frankenberg gGmbH\;\nBericht der
  Geschäftsführung über die aktuelle finanzielle Situation\nund Entwicklu
 ng\,\nBericht des Kreisausschusses über den aktuellen Sachstand der Fusi
 on\nmit dem Stadtkrankenhaus Korbach.\n3. 7. Änderung der Satzung des La
 ndkreises Waldeck-Frankenberg über die Erhebung von Gebühren für Amtshan
 dlungen im Zusammenhang mit der Gewinnung von Frischfleisch (Frischfleis
 ch-Kostensatzung) vom 15.12.2014 (s. Anlagen)\n4. Beteiligungsbericht 20
 22 des Landkreises Waldeck-Frankenberg\n5. Verschiedenes
UID:0dZvXiBhAZu15z12
END:VEVENT
END:VCALENDAR
