BEGIN:VCALENDAR
PRODID:-//IONAS//RIS//DE
VERSION:2.0
CALSCALE:GREGORIAN
BEGIN:VEVENT
DTSTAMP:20260421T010628Z
DTSTART:20250213T150000
DTEND:20250213T161500
SUMMARY:Ausschuss für Landwirtschaft\, Forsten\, Natur\, Klima\, Energie 
 und Regionalentwicklung (19. Sitzung)
LOCATION:Kreishaus in Korbach\, Sitzungssaal I (1. OG)\, Südring 2\, 3449
 7 Korbach
DESCRIPTION:Tagesordnungspunkte\n1. Haushaltsplanung 2025 – Fortschreibun
 g des Haushaltssicherungskonzepts nach § 92a HGO für den Zeitraum 2024-2
 028 (Beratung und Beschlussfassung)\n2. Haushaltssatzung und Haushaltspl
 an für das Haushaltsjahr 2025\, Investitionsprogramm und Ergebnis- und F
 inanzplanung für den Zeitraum 2024-2028 (Beratung und Beschlussfassung)\
 n3. Verschiedenes
UID:1ybd2aAcibTU91Y1
END:VEVENT
END:VCALENDAR
