BEGIN:VCALENDAR
PRODID:-//IONAS//RIS//DE
VERSION:2.0
CALSCALE:GREGORIAN
BEGIN:VEVENT
DTSTAMP:20260421T011049Z
DTSTART:20250214T150000
DTEND:20250214T154700
SUMMARY:Ausschuss für Finanzen\, Wirtschaft\, Tourismus\, Mobilität und B
 auen (26. Sitzung)
LOCATION:Kreishaus in Korbach\, Sitzungssaal I (1. OG)\, Südring 2\, 3449
 7 Korbach
DESCRIPTION:Tagesordnungspunkte\nI. öffentliche Sitzung\n1. Haushaltsplan
 ung 2025 – Fortschreibung des Haushaltssicherungskonzepts nach § 92a HGO
  für den Zeitraum 2024-2028 (Beratung und Beschlussfassung)\n2. Haushalt
 ssatzung und Haushaltsplan für das Haushaltsjahr 2025\, Investitionsprog
 ramm und Ergebnis- und Finanzplanung für den Zeitraum 2024-2028 (Beratun
 g und Beschlussfassung)\n3. EAM GmbH & Co. KG\nhier: Rückbestätigung zum
  Fortbestand der Bürgschaftserklärung\n4. Bericht über den Haushaltsvoll
 zug für das IV. Quartal 2024 auf der Grundlage der Finanzbuchhaltung nac
 h § 28 GemHVO\n5. Unterrichtung über die Genehmigung von überplanmäßigen
  Aufwendungen im Teilergebnishaushalt 050 Grundversorgung und Hilfen nac
 h SGB XII\, Teilergebnishaushalt 051 Grundsicherung für Arbeitsuchende n
 ach SGB II sowie im Teilergebnishaushalt 063 Sonstige Leistungen der Kin
 der-\, Jugend- und Familienhilfe im Haushaltsjahr 2024\n6. Kreiskrankenh
 aus Frankenberg gGmbH\;\nBericht der Geschäftsführung über die aktuelle 
 finanzielle Situation und Entwicklung\,\nBericht des Kreisausschusses üb
 er den aktuellen Sachstand der Fusion mit dem Stadtkrankenhaus Korbach.\
 n7. Verschiedenes
UID:4OEmFYY6MrFJavMj
END:VEVENT
END:VCALENDAR
