BEGIN:VCALENDAR
PRODID:-//IONAS//RIS//DE
VERSION:2.0
CALSCALE:GREGORIAN
BEGIN:VEVENT
DTSTAMP:20260421T004020Z
DTSTART:20260909T150000
DTEND:20260909T163000
SUMMARY:Jugendhilfeausschuss (2. Sitzung)
LOCATION:Kreishaus in Korbach\, Sitzungssaal I (1. OG)\, Südring 2\, 3449
 7 Korbach
DESCRIPTION:
UID:5c5CKR-5lc104H-t
END:VEVENT
END:VCALENDAR
