BEGIN:VCALENDAR
PRODID:-//IONAS//RIS//DE
VERSION:2.0
CALSCALE:GREGORIAN
BEGIN:VEVENT
DTSTAMP:20260421T010910Z
DTSTART:20240702T140000
DTEND:20240702T142200
SUMMARY:Ausschuss für Gesundheit\, Familie\, Jugend und Soziales (12. Sit
 zung)
LOCATION:Kreishaus in Korbach\, Sitzungssaal I (1. OG)\, Südring 2\, 3449
 7 Korbach
DESCRIPTION:Tagesordnungspunkte\n1. Wahl einer/s Ausschussvorsitzenden\n2
 . Jahresberichte der Patientenfürsprecherinnen und Patientenfürsprecher 
 der Krankenhäuser im Landkreis Waldeck-Frankenberg für das Jahr 2023\n3.
  Fachberatung für queere Menschen\nGemeinsamer Antrag der Kreistagsfrakt
 ionen von GRÜNEN und FDP (KT 06.11.2023)\n4. Verschiedenes
UID:5n2h5goNDPZQ8pAJ
END:VEVENT
END:VCALENDAR
