BEGIN:VCALENDAR
PRODID:-//IONAS//RIS//DE
VERSION:2.0
CALSCALE:GREGORIAN
BEGIN:VEVENT
DTSTAMP:20260420T213504Z
DTSTART:20261002T130000
DTEND:20261002T180000
SUMMARY:Kreistag (4. Sitzung)
LOCATION:Kreishaus in Korbach\, Sitzungssaal I (1. OG)\, Südring 2\, 3449
 7 Korbach
DESCRIPTION:
UID:6N71vc9J7eaIHCxx
END:VEVENT
END:VCALENDAR
