BEGIN:VCALENDAR
PRODID:-//IONAS//RIS//DE
VERSION:2.0
CALSCALE:GREGORIAN
BEGIN:VEVENT
DTSTAMP:20260421T005221Z
DTSTART:20240911T150000
DTEND:20240911T160000
SUMMARY:Jugendhilfeausschuss (10. Sitzung)
LOCATION:Kreishaus in Korbach\, Sitzungssaal I (1. OG)\, Südring 2\, 3449
 7 Korbach
DESCRIPTION:Tagesordnungspunkte\n1. Begrüßung\, Feststellung der Beschlus
 sfähigkeit\n2. Information zur Entwicklung und zum aktuellen Stand des P
 rogramms Babylotse\n3. Vereinbarungen mit den Kindertagespflegepersonen 
 zur Sicherstellung des Schutzauftrages bei Kindeswohlgefährdung nach § 8
 a SGB VIII\n4. Betreuung der unbegleiteten minderjährigen Ausländer nach
  Schließung des Korbacher Wohnquartiers\n5. Verschiedenes
UID:CoR8mAcMrYIoOMO3
END:VEVENT
END:VCALENDAR
